Package: InterCellar Version: 2.13.0 Command: /Library/Frameworks/R.framework/Resources/bin/R CMD build --keep-empty-dirs --no-resave-data InterCellar StartedAt: 2025-02-12 16:43:17 -0500 (Wed, 12 Feb 2025) EndedAt: 2025-02-12 16:43:32 -0500 (Wed, 12 Feb 2025) EllapsedTime: 15.2 seconds RetCode: 0 Status: OK PackageFile: InterCellar_2.13.0.tar.gz PackageFileSize: 4.016 MiB