Package: InterCellar Version: 2.13.0 Command: /Library/Frameworks/R.framework/Resources/bin/R CMD check --install=check:InterCellar.install-out.txt --library=/Library/Frameworks/R.framework/Resources/library --no-vignettes --timings InterCellar_2.13.0.tar.gz StartedAt: 2025-02-12 19:49:11 -0500 (Wed, 12 Feb 2025) EndedAt: 2025-02-12 19:50:14 -0500 (Wed, 12 Feb 2025) EllapsedTime: 62.7 seconds RetCode: 0 Status: OK CheckDir: InterCellar.Rcheck Warnings: 0