Package: InterCellar Version: 2.13.0 Command: /Library/Frameworks/R.framework/Resources/bin/R CMD INSTALL InterCellar StartedAt: 2025-02-12 15:28:38 -0500 (Wed, 12 Feb 2025) EndedAt: 2025-02-12 15:28:48 -0500 (Wed, 12 Feb 2025) EllapsedTime: 10.3 seconds RetCode: 0 Status: OK