Package: InterCellar Version: 2.13.0 Command: /home/biocbuild/R/R/bin/R CMD check --install=check:InterCellar.install-out.txt --library=/home/biocbuild/R/R/site-library --no-vignettes --timings InterCellar_2.13.0.tar.gz StartedAt: 2025-01-28 11:40:30 -0000 (Tue, 28 Jan 2025) EndedAt: 2025-01-28 11:44:00 -0000 (Tue, 28 Jan 2025) EllapsedTime: 210.2 seconds RetCode: 0 Status: WARNINGS CheckDir: InterCellar.Rcheck Warnings: 5