Package: InterCellar Version: 2.13.0 Command: rm -rf InterCellar.buildbin-libdir && mkdir InterCellar.buildbin-libdir && /Users/biocbuild/BBS/utils/build-universal.sh InterCellar_2.13.0.tar.gz /Library/Frameworks/R.framework/Resources/bin/R InterCellar.buildbin-libdir StartedAt: 2025-02-10 00:58:51 -0500 (Mon, 10 Feb 2025) EndedAt: 2025-02-10 00:59:32 -0500 (Mon, 10 Feb 2025) EllapsedTime: 41.5 seconds RetCode: 0 Status: OK PackageFile: InterCellar_2.13.0.tgz PackageFileSize: 3.163 MiB