Package: InterCellar Version: 2.13.0 Command: /Library/Frameworks/R.framework/Resources/bin/R CMD build --keep-empty-dirs --no-resave-data InterCellar StartedAt: 2025-02-09 17:11:21 -0500 (Sun, 09 Feb 2025) EndedAt: 2025-02-09 17:12:06 -0500 (Sun, 09 Feb 2025) EllapsedTime: 44.6 seconds RetCode: 0 Status: OK PackageFile: InterCellar_2.13.0.tar.gz PackageFileSize: 4.016 MiB