Package: InterCellar Version: 2.13.0 Command: /Library/Frameworks/R.framework/Resources/bin/R CMD INSTALL InterCellar StartedAt: 2025-02-09 15:44:02 -0500 (Sun, 09 Feb 2025) EndedAt: 2025-02-09 15:44:39 -0500 (Sun, 09 Feb 2025) EllapsedTime: 37.2 seconds RetCode: 0 Status: OK