Package: InterCellar Version: 2.13.0 Command: chmod a+r InterCellar -R && E:\biocbuild\bbs-3.21-bioc\R\bin\R.exe CMD build --keep-empty-dirs --no-resave-data InterCellar StartedAt: 2025-02-09 19:24:57 -0500 (Sun, 09 Feb 2025) EndedAt: 2025-02-09 19:25:55 -0500 (Sun, 09 Feb 2025) EllapsedTime: 58.0 seconds RetCode: 0 Status: OK PackageFile: InterCellar_2.13.0.tar.gz PackageFileSize: 4.016 MiB