Package: InteractionSet Version: 1.35.0 Command: /Library/Frameworks/R.framework/Resources/bin/R CMD INSTALL InteractionSet StartedAt: 2025-02-05 15:05:05 -0500 (Wed, 05 Feb 2025) EndedAt: 2025-02-05 15:05:20 -0500 (Wed, 05 Feb 2025) EllapsedTime: 15.5 seconds RetCode: 0 Status: OK