Package: InteractionSet Version: 1.35.0 Command: /home/biocbuild/R/R/bin/R CMD INSTALL InteractionSet StartedAt: 2025-01-29 19:40:38 -0000 (Wed, 29 Jan 2025) EndedAt: 2025-01-29 19:41:42 -0000 (Wed, 29 Jan 2025) EllapsedTime: 64.1 seconds RetCode: 0 Status: OK