Package: InteractionSet Version: 1.35.0 Command: rm -rf InteractionSet.buildbin-libdir && mkdir InteractionSet.buildbin-libdir && /Users/biocbuild/BBS/utils/build-universal.sh InteractionSet_1.35.0.tar.gz /Library/Frameworks/R.framework/Resources/bin/R InteractionSet.buildbin-libdir StartedAt: 2025-02-06 00:35:33 -0500 (Thu, 06 Feb 2025) EndedAt: 2025-02-06 00:36:34 -0500 (Thu, 06 Feb 2025) EllapsedTime: 61.1 seconds RetCode: 0 Status: OK PackageFile: InteractionSet_1.35.0.tgz PackageFileSize: 1.551 MiB