Package: InteractionSet Version: 1.35.0 Command: /Library/Frameworks/R.framework/Resources/bin/R CMD build --keep-empty-dirs --no-resave-data InteractionSet StartedAt: 2025-02-05 17:06:17 -0500 (Wed, 05 Feb 2025) EndedAt: 2025-02-05 17:07:23 -0500 (Wed, 05 Feb 2025) EllapsedTime: 65.3 seconds RetCode: 0 Status: OK PackageFile: InteractionSet_1.35.0.tar.gz PackageFileSize: 391 KiB