Package: InteractionSet Version: 1.35.0 Command: /Library/Frameworks/R.framework/Resources/bin/R CMD check --install=check:InteractionSet.install-out.txt --library=/Library/Frameworks/R.framework/Resources/library --no-vignettes --timings InteractionSet_1.35.0.tar.gz StartedAt: 2025-02-05 21:09:47 -0500 (Wed, 05 Feb 2025) EndedAt: 2025-02-05 21:14:20 -0500 (Wed, 05 Feb 2025) EllapsedTime: 272.9 seconds RetCode: 0 Status: OK CheckDir: InteractionSet.Rcheck Warnings: 0