Package: InteractionSet Version: 1.35.0 Command: /home/biocbuild/bbs-3.21-bioc/R/bin/R CMD build --keep-empty-dirs --no-resave-data InteractionSet StartedAt: 2025-02-05 17:45:50 -0500 (Wed, 05 Feb 2025) EndedAt: 2025-02-05 17:46:47 -0500 (Wed, 05 Feb 2025) EllapsedTime: 57.0 seconds RetCode: 0 Status: OK PackageFile: InteractionSet_1.35.0.tar.gz PackageFileSize: 391.2 KiB