Package: InteractionSet Version: 1.35.0 Command: /home/biocbuild/bbs-3.21-bioc/R/bin/R CMD check --install=check:InteractionSet.install-out.txt --library=/home/biocbuild/bbs-3.21-bioc/R/site-library --timings InteractionSet_1.35.0.tar.gz StartedAt: 2025-02-05 23:25:10 -0500 (Wed, 05 Feb 2025) EndedAt: 2025-02-05 23:30:03 -0500 (Wed, 05 Feb 2025) EllapsedTime: 293.4 seconds RetCode: 0 Status: OK CheckDir: InteractionSet.Rcheck Warnings: 0