Package: InteractionSet Version: 1.35.0 Command: chmod a+r InteractionSet -R && E:\biocbuild\bbs-3.21-bioc\R\bin\R.exe CMD build --keep-empty-dirs --no-resave-data InteractionSet StartedAt: 2025-02-05 19:29:28 -0500 (Wed, 05 Feb 2025) EndedAt: 2025-02-05 19:30:52 -0500 (Wed, 05 Feb 2025) EllapsedTime: 84.0 seconds RetCode: 0 Status: OK PackageFile: InteractionSet_1.35.0.tar.gz PackageFileSize: 391.5 KiB