Package: InteractionSet Version: 1.35.0 Command: E:\biocbuild\bbs-3.21-bioc\R\bin\R.exe CMD check --no-multiarch --install=check:InteractionSet.install-out.txt --library=E:\biocbuild\bbs-3.21-bioc\R\library --no-vignettes --timings InteractionSet_1.35.0.tar.gz StartedAt: 2025-02-06 02:40:04 -0500 (Thu, 06 Feb 2025) EndedAt: 2025-02-06 02:45:08 -0500 (Thu, 06 Feb 2025) EllapsedTime: 304.5 seconds RetCode: 0 Status: OK CheckDir: InteractionSet.Rcheck Warnings: 0