Package: InteractionSet Version: 1.35.0 Command: E:\biocbuild\bbs-3.21-bioc\R\bin\R.exe CMD INSTALL InteractionSet StartedAt: 2025-02-05 15:51:35 -0500 (Wed, 05 Feb 2025) EndedAt: 2025-02-05 15:54:18 -0500 (Wed, 05 Feb 2025) EllapsedTime: 163.1 seconds RetCode: 0 Status: OK