Package: InteractiveComplexHeatmap Version: 1.15.0 Command: /Library/Frameworks/R.framework/Resources/bin/R CMD INSTALL InteractiveComplexHeatmap StartedAt: 2025-02-12 15:15:03 -0500 (Wed, 12 Feb 2025) EndedAt: 2025-02-12 15:15:08 -0500 (Wed, 12 Feb 2025) EllapsedTime: 4.9 seconds RetCode: 0 Status: OK