Package: InteractiveComplexHeatmap Version: 1.15.0 Command: /home/biocbuild/R/R/bin/R CMD build --keep-empty-dirs --no-resave-data InteractiveComplexHeatmap StartedAt: 2025-01-28 23:46:12 -0000 (Tue, 28 Jan 2025) EndedAt: 2025-01-28 23:47:04 -0000 (Tue, 28 Jan 2025) EllapsedTime: 52.0 seconds RetCode: 0 Status: OK PackageFile: InteractiveComplexHeatmap_1.15.0.tar.gz PackageFileSize: 937 KiB