Package: InteractiveComplexHeatmap Version: 1.15.0 Command: /Library/Frameworks/R.framework/Resources/bin/R CMD INSTALL InteractiveComplexHeatmap StartedAt: 2025-02-12 15:24:37 -0500 (Wed, 12 Feb 2025) EndedAt: 2025-02-12 15:25:01 -0500 (Wed, 12 Feb 2025) EllapsedTime: 23.5 seconds RetCode: 0 Status: OK