Package: InteractiveComplexHeatmap Version: 1.15.0 Command: /home/biocbuild/bbs-3.21-bioc/R/bin/R CMD build --keep-empty-dirs --no-resave-data InteractiveComplexHeatmap StartedAt: 2025-02-09 17:45:47 -0500 (Sun, 09 Feb 2025) EndedAt: 2025-02-09 17:46:22 -0500 (Sun, 09 Feb 2025) EllapsedTime: 35.0 seconds RetCode: 0 Status: OK PackageFile: InteractiveComplexHeatmap_1.15.0.tar.gz PackageFileSize: 949.5 KiB