Package: InteractiveComplexHeatmap Version: 1.15.0 Command: /home/biocbuild/bbs-3.21-bioc/R/bin/R CMD check --install=check:InteractiveComplexHeatmap.install-out.txt --library=/home/biocbuild/bbs-3.21-bioc/R/site-library --timings InteractiveComplexHeatmap_1.15.0.tar.gz StartedAt: 2025-02-09 23:22:32 -0500 (Sun, 09 Feb 2025) EndedAt: 2025-02-09 23:25:01 -0500 (Sun, 09 Feb 2025) EllapsedTime: 149.1 seconds RetCode: 0 Status: OK CheckDir: InteractiveComplexHeatmap.Rcheck Warnings: 0