Package: InteractiveComplexHeatmap Version: 1.15.0 Command: /home/biocbuild/bbs-3.21-bioc/R/bin/R CMD INSTALL InteractiveComplexHeatmap StartedAt: 2025-02-09 15:14:29 -0500 (Sun, 09 Feb 2025) EndedAt: 2025-02-09 15:14:41 -0500 (Sun, 09 Feb 2025) EllapsedTime: 12.0 seconds RetCode: 0 Status: OK