Package: IsoBayes Version: 1.5.0 Command: /Library/Frameworks/R.framework/Resources/bin/R CMD build --keep-empty-dirs --no-resave-data IsoBayes StartedAt: 2025-02-05 16:45:18 -0500 (Wed, 05 Feb 2025) EndedAt: 2025-02-05 16:46:04 -0500 (Wed, 05 Feb 2025) EllapsedTime: 45.5 seconds RetCode: 0 Status: OK PackageFile: IsoBayes_1.5.0.tar.gz PackageFileSize: 1.653 MiB