Package: IsoBayes Version: 1.5.0 Command: /home/biocbuild/R/R/bin/R CMD INSTALL IsoBayes StartedAt: 2025-01-29 19:59:01 -0000 (Wed, 29 Jan 2025) EndedAt: 2025-01-29 20:00:16 -0000 (Wed, 29 Jan 2025) EllapsedTime: 75.7 seconds RetCode: 0 Status: OK