Package: IsoBayes Version: 1.5.0 Command: /home/biocbuild/bbs-3.21-bioc/R/bin/R CMD build --keep-empty-dirs --no-resave-data IsoBayes StartedAt: 2025-02-05 17:49:01 -0500 (Wed, 05 Feb 2025) EndedAt: 2025-02-05 17:50:54 -0500 (Wed, 05 Feb 2025) EllapsedTime: 112.1 seconds RetCode: 0 Status: OK PackageFile: IsoBayes_1.5.0.tar.gz PackageFileSize: 1.792 MiB