Package: IsoBayes Version: 1.5.0 Command: /home/biocbuild/bbs-3.21-bioc/R/bin/R CMD INSTALL IsoBayes StartedAt: 2025-02-05 15:23:36 -0500 (Wed, 05 Feb 2025) EndedAt: 2025-02-05 15:24:24 -0500 (Wed, 05 Feb 2025) EllapsedTime: 47.1 seconds RetCode: 0 Status: OK