Package: IsoBayes Version: 1.5.0 Command: rm -rf IsoBayes.buildbin-libdir && mkdir IsoBayes.buildbin-libdir && E:\biocbuild\bbs-3.21-bioc\R\bin\R.exe CMD INSTALL --build --library=IsoBayes.buildbin-libdir IsoBayes_1.5.0.tar.gz StartedAt: 2025-02-06 08:18:11 -0500 (Thu, 06 Feb 2025) EndedAt: 2025-02-06 08:19:30 -0500 (Thu, 06 Feb 2025) EllapsedTime: 79.0 seconds RetCode: 0 Status: OK PackageFile: IsoBayes_1.5.0.zip PackageFileSize: 1.874 MiB