Package: IsoBayes Version: 1.5.0 Command: chmod a+r IsoBayes -R && E:\biocbuild\bbs-3.21-bioc\R\bin\R.exe CMD build --keep-empty-dirs --no-resave-data IsoBayes StartedAt: 2025-02-05 19:33:44 -0500 (Wed, 05 Feb 2025) EndedAt: 2025-02-05 19:36:18 -0500 (Wed, 05 Feb 2025) EllapsedTime: 153.8 seconds RetCode: 0 Status: OK PackageFile: IsoBayes_1.5.0.tar.gz PackageFileSize: 1.464 MiB