Package: IsoBayes Version: 1.5.0 Command: E:\biocbuild\bbs-3.21-bioc\R\bin\R.exe CMD check --no-multiarch --install=check:IsoBayes.install-out.txt --library=E:\biocbuild\bbs-3.21-bioc\R\library --no-vignettes --timings IsoBayes_1.5.0.tar.gz StartedAt: 2025-02-06 02:46:14 -0500 (Thu, 06 Feb 2025) EndedAt: 2025-02-06 02:53:25 -0500 (Thu, 06 Feb 2025) EllapsedTime: 431.7 seconds RetCode: 0 Status: OK CheckDir: IsoBayes.Rcheck Warnings: 0