Package: IsoBayes Version: 1.5.0 Command: E:\biocbuild\bbs-3.21-bioc\R\bin\R.exe CMD INSTALL IsoBayes StartedAt: 2025-02-05 15:49:42 -0500 (Wed, 05 Feb 2025) EndedAt: 2025-02-05 15:50:45 -0500 (Wed, 05 Feb 2025) EllapsedTime: 63.0 seconds RetCode: 0 Status: OK