Package: IsoCorrectoRGUI Version: 1.23.0 Command: /Library/Frameworks/R.framework/Resources/bin/R CMD build --keep-empty-dirs --no-resave-data IsoCorrectoRGUI StartedAt: 2025-02-09 16:44:17 -0500 (Sun, 09 Feb 2025) EndedAt: 2025-02-09 16:44:21 -0500 (Sun, 09 Feb 2025) EllapsedTime: 4.0 seconds RetCode: 0 Status: OK PackageFile: IsoCorrectoRGUI_1.23.0.tar.gz PackageFileSize: 439.3 KiB