Package: IsoCorrectoRGUI Version: 1.23.0 Command: /Library/Frameworks/R.framework/Resources/bin/R CMD check --install=check:IsoCorrectoRGUI.install-out.txt --library=/Library/Frameworks/R.framework/Resources/library --no-vignettes --timings IsoCorrectoRGUI_1.23.0.tar.gz StartedAt: 2025-02-09 19:48:28 -0500 (Sun, 09 Feb 2025) EndedAt: 2025-02-09 19:48:46 -0500 (Sun, 09 Feb 2025) EllapsedTime: 18.2 seconds RetCode: 0 Status: OK CheckDir: IsoCorrectoRGUI.Rcheck Warnings: 0