Package: IsoCorrectoRGUI Version: 1.23.0 Command: /Library/Frameworks/R.framework/Resources/bin/R CMD INSTALL IsoCorrectoRGUI StartedAt: 2025-02-09 15:06:19 -0500 (Sun, 09 Feb 2025) EndedAt: 2025-02-09 15:06:21 -0500 (Sun, 09 Feb 2025) EllapsedTime: 2.7 seconds RetCode: 0 Status: OK