Package: IsoCorrectoRGUI Version: 1.23.0 Command: rm -rf IsoCorrectoRGUI.buildbin-libdir && mkdir IsoCorrectoRGUI.buildbin-libdir && E:\biocbuild\bbs-3.21-bioc\R\bin\R.exe CMD INSTALL --build --library=IsoCorrectoRGUI.buildbin-libdir IsoCorrectoRGUI_1.23.0.tar.gz StartedAt: 2025-02-10 08:00:10 -0500 (Mon, 10 Feb 2025) EndedAt: 2025-02-10 08:01:54 -0500 (Mon, 10 Feb 2025) EllapsedTime: 104.1 seconds RetCode: 0 Status: OK PackageFile: IsoCorrectoRGUI_1.23.0.zip PackageFileSize: 484.1 KiB