Package: KBoost Version: 1.15.0 Command: /Library/Frameworks/R.framework/Resources/bin/R CMD build --keep-empty-dirs --no-resave-data KBoost StartedAt: 2025-02-04 16:45:23 -0500 (Tue, 04 Feb 2025) EndedAt: 2025-02-04 16:45:27 -0500 (Tue, 04 Feb 2025) EllapsedTime: 4.1 seconds RetCode: 0 Status: OK PackageFile: KBoost_1.15.0.tar.gz PackageFileSize: 504 KiB