Package: KBoost Version: 1.15.0 Command: /home/biocbuild/R/R/bin/R CMD build --keep-empty-dirs --no-resave-data KBoost StartedAt: 2025-01-28 23:51:47 -0000 (Tue, 28 Jan 2025) EndedAt: 2025-01-28 23:51:56 -0000 (Tue, 28 Jan 2025) EllapsedTime: 9.0 seconds RetCode: 0 Status: OK PackageFile: KBoost_1.15.0.tar.gz PackageFileSize: 505.1 KiB