Package: KBoost Version: 1.15.0 Command: /home/biocbuild/R/R/bin/R CMD INSTALL KBoost StartedAt: 2025-01-29 19:29:48 -0000 (Wed, 29 Jan 2025) EndedAt: 2025-01-29 19:30:03 -0000 (Wed, 29 Jan 2025) EllapsedTime: 14.9 seconds RetCode: 0 Status: OK