Package: KBoost Version: 1.15.0 Command: /home/biocbuild/bbs-3.21-bioc/R/bin/R CMD check --install=check:KBoost.install-out.txt --library=/home/biocbuild/bbs-3.21-bioc/R/site-library --timings KBoost_1.15.0.tar.gz StartedAt: 2025-02-04 23:32:28 -0500 (Tue, 04 Feb 2025) EndedAt: 2025-02-04 23:33:03 -0500 (Tue, 04 Feb 2025) EllapsedTime: 35.1 seconds RetCode: 0 Status: OK CheckDir: KBoost.Rcheck Warnings: 0