Package: KBoost Version: 1.15.0 Command: chmod a+r KBoost -R && E:\biocbuild\bbs-3.21-bioc\R\bin\R.exe CMD build --keep-empty-dirs --no-resave-data KBoost StartedAt: 2025-02-12 19:35:14 -0500 (Wed, 12 Feb 2025) EndedAt: 2025-02-12 19:35:37 -0500 (Wed, 12 Feb 2025) EllapsedTime: 23.2 seconds RetCode: 0 Status: OK PackageFile: KBoost_1.15.0.tar.gz PackageFileSize: 504 KiB