Package: KCsmart Version: 2.65.0 Command: /Library/Frameworks/R.framework/Resources/bin/R CMD check --install=check:KCsmart.install-out.txt --library=/Library/Frameworks/R.framework/Resources/library --no-vignettes --timings KCsmart_2.65.0.tar.gz StartedAt: 2025-02-12 19:53:25 -0500 (Wed, 12 Feb 2025) EndedAt: 2025-02-12 19:54:03 -0500 (Wed, 12 Feb 2025) EllapsedTime: 37.4 seconds RetCode: 0 Status: WARNINGS CheckDir: KCsmart.Rcheck Warnings: 1