Package: KCsmart Version: 2.65.0 Command: /home/biocbuild/bbs-3.21-bioc/R/bin/R CMD INSTALL KCsmart StartedAt: 2025-02-09 15:12:46 -0500 (Sun, 09 Feb 2025) EndedAt: 2025-02-09 15:12:57 -0500 (Sun, 09 Feb 2025) EllapsedTime: 10.8 seconds RetCode: 0 Status: OK