Package: KCsmart Version: 2.65.0 Command: chmod a+r KCsmart -R && E:\biocbuild\bbs-3.21-bioc\R\bin\R.exe CMD build --keep-empty-dirs --no-resave-data KCsmart StartedAt: 2025-02-09 19:30:08 -0500 (Sun, 09 Feb 2025) EndedAt: 2025-02-09 19:30:48 -0500 (Sun, 09 Feb 2025) EllapsedTime: 39.8 seconds RetCode: 0 Status: OK PackageFile: KCsmart_2.65.0.tar.gz PackageFileSize: 1.713 MiB