Package: KEGGgraph Version: 1.67.0 Command: rm -rf KEGGgraph.buildbin-libdir && mkdir KEGGgraph.buildbin-libdir && /Users/biocbuild/BBS/utils/build-universal.sh KEGGgraph_1.67.0.tar.gz /Library/Frameworks/R.framework/Resources/bin/R KEGGgraph.buildbin-libdir StartedAt: 2025-02-12 22:24:05 -0500 (Wed, 12 Feb 2025) EndedAt: 2025-02-12 22:24:09 -0500 (Wed, 12 Feb 2025) EllapsedTime: 4.1 seconds RetCode: 0 Status: OK PackageFile: KEGGgraph_1.67.0.tgz PackageFileSize: 1.628 MiB