Package: KEGGgraph Version: 1.67.0 Command: /home/biocbuild/bbs-3.21-bioc/R/bin/R CMD check --install=check:KEGGgraph.install-out.txt --library=/home/biocbuild/bbs-3.21-bioc/R/site-library --timings KEGGgraph_1.67.0.tar.gz StartedAt: 2025-02-09 23:33:54 -0500 (Sun, 09 Feb 2025) EndedAt: 2025-02-09 23:35:39 -0500 (Sun, 09 Feb 2025) EllapsedTime: 105.2 seconds RetCode: 0 Status: WARNINGS CheckDir: KEGGgraph.Rcheck Warnings: 1