Package: KEGGgraph Version: 1.67.0 Command: rm -rf KEGGgraph.buildbin-libdir && mkdir KEGGgraph.buildbin-libdir && E:\biocbuild\bbs-3.21-bioc\R\bin\R.exe CMD INSTALL --build --library=KEGGgraph.buildbin-libdir KEGGgraph_1.67.0.tar.gz StartedAt: 2025-02-10 08:00:45 -0500 (Mon, 10 Feb 2025) EndedAt: 2025-02-10 08:01:56 -0500 (Mon, 10 Feb 2025) EllapsedTime: 71.4 seconds RetCode: 0 Status: OK PackageFile: KEGGgraph_1.67.0.zip PackageFileSize: 1.62 MiB