Package: KEGGgraph Version: 1.67.0 Command: E:\biocbuild\bbs-3.21-bioc\R\bin\R.exe CMD check --no-multiarch --install=check:KEGGgraph.install-out.txt --library=E:\biocbuild\bbs-3.21-bioc\R\library --no-vignettes --timings KEGGgraph_1.67.0.tar.gz StartedAt: 2025-02-10 02:19:14 -0500 (Mon, 10 Feb 2025) EndedAt: 2025-02-10 02:20:50 -0500 (Mon, 10 Feb 2025) EllapsedTime: 96.3 seconds RetCode: 0 Status: WARNINGS CheckDir: KEGGgraph.Rcheck Warnings: 1