Package: KEGGgraph Version: 1.67.0 Command: E:\biocbuild\bbs-3.21-bioc\R\bin\R.exe CMD INSTALL KEGGgraph StartedAt: 2025-02-09 15:46:25 -0500 (Sun, 09 Feb 2025) EndedAt: 2025-02-09 15:47:22 -0500 (Sun, 09 Feb 2025) EllapsedTime: 56.9 seconds RetCode: 0 Status: OK