Package: KinSwingR Version: 1.25.0 Command: rm -rf KinSwingR.buildbin-libdir && mkdir KinSwingR.buildbin-libdir && /Users/biocbuild/BBS/utils/build-universal.sh KinSwingR_1.25.0.tar.gz /Library/Frameworks/R.framework/Resources/bin/R KinSwingR.buildbin-libdir StartedAt: 2025-02-09 22:18:56 -0500 (Sun, 09 Feb 2025) EndedAt: 2025-02-09 22:18:59 -0500 (Sun, 09 Feb 2025) EllapsedTime: 3.1 seconds RetCode: 0 Status: OK PackageFile: KinSwingR_1.25.0.tgz PackageFileSize: 696.5 KiB